BEGIN:VCALENDAR
VERSION:2.0
PRODID:-//wp-events-plugin.com//7.2.3.1//EN
TZID:Europe/Amsterdam
X-WR-TIMEZONE:Europe/Amsterdam
BEGIN:VEVENT
UID:29@vabfjs.com
DTSTART;TZID=Europe/Amsterdam:20260405T153000
DTEND;TZID=Europe/Amsterdam:20260406T190000
DTSTAMP:20260210T161349Z
URL:https://vabfjs.com/events/the-ess-event-season-2025-2026-2026-04-05/
SUMMARY:The ESS Event Season 2025-2026
DESCRIPTION:The Easy Sunday Sessions\nFree Live Music\nRobert's Pub Veenend
 aal\nSession 15:30-16:15 Mystic Parrot\n\nSession 16:30-17:15  J. David S
 avage\n\nSession 17:30-18:15 De MVP Band\n\n
LOCATION:https://robertspub.nl
END:VEVENT
BEGIN:VTIMEZONE
TZID:Europe/Amsterdam
X-LIC-LOCATION:Europe/Amsterdam
BEGIN:DAYLIGHT
DTSTART:20260329T030000
TZOFFSETFROM:+0100
TZOFFSETTO:+0200
TZNAME:CEST
END:DAYLIGHT
END:VTIMEZONE
END:VCALENDAR