BEGIN:VCALENDAR
VERSION:2.0
PRODID:-//wp-events-plugin.com//7.2.3.1//EN
TZID:Europe/Amsterdam
X-WR-TIMEZONE:Europe/Amsterdam
BEGIN:VEVENT
UID:30@vabfjs.com
DTSTART;TZID=Europe/Amsterdam:20260503T153000
DTEND;TZID=Europe/Amsterdam:20260504T190000
DTSTAMP:20251228T104522Z
URL:https://vabfjs.com/events/the-ess-event-season-2025-2026-2026-05-03/
SUMMARY:The ESS Event Season 2025-2026
DESCRIPTION:The Easy Sunday Sessions\nFree Live Music\nRobert's Pub Veenend
 aal\n15:30 JJM\n16:30 WillieB and Little Jake\n17:30 St Germain\n&nbsp\;\n
 \n
LOCATION:https://robertspub.nl
END:VEVENT
BEGIN:VTIMEZONE
TZID:Europe/Amsterdam
X-LIC-LOCATION:Europe/Amsterdam
BEGIN:DAYLIGHT
DTSTART:20260329T030000
TZOFFSETFROM:+0100
TZOFFSETTO:+0200
TZNAME:CEST
END:DAYLIGHT
END:VTIMEZONE
END:VCALENDAR