BEGIN:VCALENDAR
VERSION:2.0
PRODID:-//ical.marudot.com//iCal Event Maker
CALSCALE:GREGORIAN
BEGIN:VTIMEZONE
TZID:Europe/Brussels
LAST-MODIFIED:20250410T142247Z
TZURL:https://www.tzurl.org/zoneinfo-outlook/Europe/Brussels
X-LIC-LOCATION:Europe/Brussels
BEGIN:DAYLIGHT
TZNAME:CEST
TZOFFSETFROM:+0100
TZOFFSETTO:+0200
DTSTART:19700329T020000
RRULE:FREQ=YEARLY;BYMONTH=3;BYDAY=-1SU
END:DAYLIGHT
BEGIN:STANDARD
TZNAME:CET
TZOFFSETFROM:+0200
TZOFFSETTO:+0100
DTSTART:19701025T030000
RRULE:FREQ=YEARLY;BYMONTH=10;BYDAY=-1SU
END:STANDARD
END:VTIMEZONE
BEGIN:VEVENT
DTSTAMP:20260207T143438Z
UID:1770474684726-60413@ical.marudot.com
DTSTART;TZID=Europe/Brussels:20260308T173000
DTEND;TZID=Europe/Brussels:20260308T181500
SUMMARY:St. Germain Mrt 2026
URL:https://www.facebook.com/robertspub/?locale=nl_NL
DESCRIPTION:St. Germain Live at Robert's Pub
LOCATION:Robert's Pub Veenendaal
END:VEVENT
END:VCALENDAR